BEGIN:VCALENDAR
VERSION:2.0
PRODID:-//Percussive Arts Society - California Chapter - ECPv6.15.20//NONSGML v1.0//EN
CALSCALE:GREGORIAN
METHOD:PUBLISH
X-WR-CALNAME:Percussive Arts Society - California Chapter
X-ORIGINAL-URL:https://pascalifornia.org
X-WR-CALDESC:Events for Percussive Arts Society - California Chapter
REFRESH-INTERVAL;VALUE=DURATION:PT1H
X-Robots-Tag:noindex
X-PUBLISHED-TTL:PT1H
BEGIN:VTIMEZONE
TZID:America/Los_Angeles
BEGIN:DAYLIGHT
TZOFFSETFROM:-0800
TZOFFSETTO:-0700
TZNAME:PDT
DTSTART:20250309T100000
END:DAYLIGHT
BEGIN:STANDARD
TZOFFSETFROM:-0700
TZOFFSETTO:-0800
TZNAME:PST
DTSTART:20251102T090000
END:STANDARD
BEGIN:DAYLIGHT
TZOFFSETFROM:-0800
TZOFFSETTO:-0700
TZNAME:PDT
DTSTART:20260308T100000
END:DAYLIGHT
BEGIN:STANDARD
TZOFFSETFROM:-0700
TZOFFSETTO:-0800
TZNAME:PST
DTSTART:20261101T090000
END:STANDARD
BEGIN:DAYLIGHT
TZOFFSETFROM:-0800
TZOFFSETTO:-0700
TZNAME:PDT
DTSTART:20270314T100000
END:DAYLIGHT
BEGIN:STANDARD
TZOFFSETFROM:-0700
TZOFFSETTO:-0800
TZNAME:PST
DTSTART:20271107T090000
END:STANDARD
END:VTIMEZONE
BEGIN:VEVENT
DTSTART;VALUE=DATE:20260425
DTEND;VALUE=DATE:20260426
DTSTAMP:20260423T073934
CREATED:20251120T023851Z
LAST-MODIFIED:20251120T031110Z
UID:3250-1777075200-1777161599@pascalifornia.org
SUMMARY:Nothern California Day of Percussion
DESCRIPTION:
URL:https://pascalifornia.org/?tribe_events=nothern-california-day-of-percussion
CATEGORIES:Day of Percussion
END:VEVENT
BEGIN:VEVENT
DTSTART;VALUE=DATE:20260501
DTEND;VALUE=DATE:20260502
DTSTAMP:20260423T073934
CREATED:20251020T022244Z
LAST-MODIFIED:20260111T050715Z
UID:2613-1777593600-1777679999@pascalifornia.org
SUMMARY:California Competitive Percussion Festival
DESCRIPTION:We’re excited to share that preparations are underway for the annual California Competitive Percussion Festival\, returning in 2026 for another year of outstanding performances and musical growth. \nFull details—including rules\, registration information\, schedules\, and event guidelines—are currently being can be found here
URL:https://pascalifornia.org/?tribe_events=california-competitive-percussion-festival
LOCATION:Fresno State\, 5005 N Maple Ave\, Fresno\, CA\, 93740\, United States
CATEGORIES:Day of Percussion
END:VEVENT
BEGIN:VEVENT
DTSTART;VALUE=DATE:20260502
DTEND;VALUE=DATE:20260503
DTSTAMP:20260423T073934
CREATED:20251020T021900Z
LAST-MODIFIED:20251120T031102Z
UID:2606-1777680000-1777766399@pascalifornia.org
SUMMARY:Central California Day of Percussion
DESCRIPTION:This year’s Central California Day of Percussion will once again bring together students\, educators\, and performers for a full day of learning\, music-making\, and community building. The event will open with a morning Percussion Ensemble Festival\, providing ensembles of all levels an opportunity to perform\, receive feedback\, and connect with clinicians in a supportive and educational environment. \nThroughout the day\, attendees can look forward to inspiring clinics\, artist sessions\, and performances that highlight the breadth and diversity of the percussion world. Whether you’re an educator seeking fresh ideas\, a student looking to grow\, or a percussion enthusiast who wants to be inspired\, the Day of Percussion offers meaningful experiences for everyone. \nMore information regarding event registration\, featured artists\, and the full schedule will be released soon. We look forward to welcoming you to a day filled with creativity\, community\, and the shared joy of percussion.
URL:https://pascalifornia.org/?tribe_events=central-california-day-of-percussion
LOCATION:Fresno State\, 5005 N Maple Ave\, Fresno\, CA\, 93740\, United States
CATEGORIES:Day of Percussion
END:VEVENT
END:VCALENDAR